BEGIN:VCALENDAR
VERSION:2.0
PRODID:-//ChamberMaster//Event Calendar 2.0//EN
METHOD:PUBLISH
X-PUBLISHED-TTL:P3D
REFRESH-INTERVAL:P3D
CALSCALE:GREGORIAN
BEGIN:VEVENT
DTSTART:20170129T000000Z
DTEND:20170129T053000Z
X-MICROSOFT-CDO-ALLDAYEVENT:FALSE
SUMMARY:AnnualDinnerDance 2017 - "Paris City of Lights"
DESCRIPTION:Frank E. Low Award Nomination Form Click Here\n\nMenu for the Evening\n\nCream of Asparagus Soup\n\nGreek Salad\n\nPetite Filet with Chicken Vesuvio\n\nTwice Baked Potato\n\nBroccoli\, Cauliflower & Baby Carrots Vegetables\n\nRolls & Butter\n\nSweet Table\n\nCoffee\n\nRed and White Wine on the table\n\nEntertainment by Lori Shane & The Mix\n\nCocktail Attire or Dress to Theme
X-ALT-DESC;FMTTYPE=text/html:<p><strong>Frank E. Low Award Nomination Form <a href="https://chambermaster.blob.core.windows.net/userfiles/UserFiles/chambers/1915/File/felacriteriaform.pdf">Click Here</a><br />\nMenu for the Evening</strong><br />\nCream of Asparagus Soup<br />\nGreek Salad<br />\nPetite Filet with Chicken Vesuvio<br />\nTwice Baked&nbsp\;Potato<br />\nBroccoli\, Cauliflower &amp\; Baby Carrots Vegetables<br />\nRolls &amp\; Butter<br />\nSweet Table<br />\nCoffee<br />\nRed and White Wine on the table<br />\n<strong>Entertainment&nbsp\;by&nbsp\;Lori Shane &amp\; The Mix<br />\nCocktail Attire or Dress to Theme</strong></p>\n
LOCATION:D'Andrea Banquets & Conference Center 4419 Northwest Hwy. Crystal Lake\, IL 60014
UID:e.1915.10614
SEQUENCE:3
DTSTAMP:20260421T062715Z
URL:http://business.mchenrychamber.com/events/details/annualdinnerdance-2017-paris-city-of-lights-10614
END:VEVENT

END:VCALENDAR
