BEGIN:VCALENDAR
VERSION:2.0
PRODID:-//ChamberMaster//Event Calendar 2.0//EN
METHOD:PUBLISH
X-PUBLISHED-TTL:P3D
REFRESH-INTERVAL:P3D
CALSCALE:GREGORIAN
BEGIN:VEVENT
DTSTART:20260411T200000Z
DTEND:20260411T220000Z
X-MICROSOFT-CDO-ALLDAYEVENT:FALSE
SUMMARY:Cirque Us - One Man's Trash
DESCRIPTION:Grab your garbage bags and open your imagination! Cirque Us: One Man's Trash is an uplifting\, upcycled circus adventure like nothing you've seen before!\n\nOne Man's Trash transforms discarded items into delightful props and stages a thrilling performance filled with community spirit and breathtaking talent. This imaginative show proves that with a little creativity and a lot of daring\, even junk can become something spectacular.\n\nFeaturing a cast of nationally acclaimed performers\, the show includes jaw-dropping acrobatics\, aerial rope stunts\, duo trapeze\, contortion\, clowning\, juggling\, hoop diving\, and the unforgettable German Wheel. Whether it's the spin of a wheel or the toss of a club\, One Man's Trash is a celebration of teamwork\, transformation\, and the pure joy of performance.\n\nThis family-friendly show is perfect for all ages!\n\n \n\nTake the Stage After the Show! The magic doesn't have to end when the curtain falls\, stick around after Cirque Us: One Man's Trash and step into the spotlight yourself!\n\nFor just $25\, you can join our world-class cirque performers for a one-hour\, hands-on workshop in Aerial Arts\, Acrobatics\, Juggling\, and Clowning.\n\nWhether you've always wanted to fly\, flip\, or fool around\, this is your chance to learn from the pros in a fun\, supportive environment.\n\nWorkshop tickets are an add-on purchase and require a ticket to the performance.
X-ALT-DESC;FMTTYPE=text/html:Grab your garbage bags and open your imagination! Cirque Us: One Man&rsquo\;s Trash is an uplifting\, upcycled circus adventure like nothing you&rsquo\;ve seen before!<br />\nOne Man&rsquo\;s Trash transforms discarded items into delightful props and stages a thrilling performance filled with community spirit and breathtaking talent. This imaginative show proves that with a little creativity and a lot of daring\, even junk can become something spectacular.<br />\nFeaturing a cast of nationally acclaimed performers\, the show includes jaw-dropping acrobatics\, aerial rope stunts\, duo trapeze\, contortion\, clowning\, juggling\, hoop diving\, and the unforgettable German Wheel. Whether it&rsquo\;s the spin of a wheel or the toss of a club\, One Man&rsquo\;s Trash is a celebration of teamwork\, transformation\, and the pure joy of performance.<br />\nThis family-friendly show is perfect for all ages!<br />\n<span style="font-size:14px"><strong>&nbsp\;<br />\nTake the Stage After the Show!&nbsp\;</strong></span>The magic doesn&rsquo\;t have to end when the curtain falls\, stick around after Cirque Us: One Man&rsquo\;s Trash and step into the spotlight yourself!<br />\n<strong>For just $25\, you can join our world-class cirque performers for a one-hour\, hands-on workshop in Aerial Arts\, Acrobatics\, Juggling\, and Clowning.</strong><br />\nWhether you&rsquo\;ve always wanted to fly\, flip\, or fool around\, this is your chance to learn from the pros in a fun\, supportive environment.<br />\n<strong>Workshop tickets are an add-on purchase and require a ticket to the performance.</strong>
LOCATION:Woodstock Opera House 121 W Van Buren St Woodstock\, IL 60098
UID:e.1915.36361
SEQUENCE:3
DTSTAMP:20260425T024711Z
URL:http://business.mchenrychamber.com/events/details/cirque-us-one-man-s-trash-36361
END:VEVENT

END:VCALENDAR
