BEGIN:VCALENDAR
VERSION:2.0
PRODID:-//ChamberMaster//Event Calendar 2.0//EN
METHOD:PUBLISH
X-PUBLISHED-TTL:P3D
REFRESH-INTERVAL:P3D
CALSCALE:GREGORIAN
BEGIN:VEVENT
DTSTART:20260311T230000Z
DTEND:20260312T000000Z
X-MICROSOFT-CDO-ALLDAYEVENT:FALSE
SUMMARY:Daebak\, It’s K-Pop
DESCRIPTION:Calling all K-Pop fans! Join us for an evening of everything K-Pop including crafts\, music video viewings\, and snacks. \n\nRegister here: https://mchenry.librarycalendar.com/event/daebak-its-k-pop-30614
X-ALT-DESC;FMTTYPE=text/html:Calling all K-Pop fans! Join us for an evening of everything K-Pop including crafts\, music video viewings\, and snacks.&nbsp\;<br />\nRegister here:&nbsp\;https://mchenry.librarycalendar.com/event/daebak-its-k-pop-30614
LOCATION:McHenry Public Library District 809 Front St. McHenry\, IL 60050
UID:e.1915.36634
SEQUENCE:3
DTSTAMP:20260421T100623Z
URL:http://business.mchenrychamber.com/events/details/daebak-it-s-k-pop-36634
END:VEVENT

END:VCALENDAR
