BEGIN:VCALENDAR
VERSION:2.0
PRODID:-//ChamberMaster//Event Calendar 2.0//EN
METHOD:PUBLISH
X-PUBLISHED-TTL:P3D
REFRESH-INTERVAL:P3D
CALSCALE:GREGORIAN
BEGIN:VEVENT
DTSTART:20261113T133000Z
DTEND:20261113T143000Z
X-MICROSOFT-CDO-ALLDAYEVENT:FALSE
SUMMARY:Fiesta Days Committee Meeting
DESCRIPTION:Planning meeting for Fiesta Days
X-ALT-DESC;FMTTYPE=text/html:Planning meeting for Fiesta Days
LOCATION:McHenry Area Chamber of Commerce 1307 N. Green Street McHenry\, IL 60050
UID:e.1915.33740
SEQUENCE:3
DTSTAMP:20260425T182327Z
URL:http://business.mchenrychamber.com/events/details/fiesta-days-committee-meeting-11-13-2026-33740
END:VEVENT

END:VCALENDAR
