BEGIN:VCALENDAR
VERSION:2.0
PRODID:-//ChamberMaster//Event Calendar 2.0//EN
METHOD:PUBLISH
X-PUBLISHED-TTL:P3D
REFRESH-INTERVAL:P3D
CALSCALE:GREGORIAN
BEGIN:VEVENT
DTSTART:20260510T150000Z
DTEND:20260510T180000Z
X-MICROSOFT-CDO-ALLDAYEVENT:FALSE
SUMMARY:Hand Spa Day- Come & enjoy your Sunday at the Toast and Roast!
DESCRIPTION:Pop-Up Event!!! One Day!! Come and experience a L'bri hand spa after church\, morning jog/walk or during your relaxing day with a drink from Toast and Roast. This event is for Ladies and Men\, that would like their hands to feel and look better. \n\n\n\n Feel free to bring a friend\, spouse\, neighbor or maybe someone else that you know who could benefit this experience. Two people can experience a hand spa at one time.  RSVP your 10-15-minute slot at 224-806-3460 or Walk-In's are welcome too. Hand spas will start at 10 am with the last opening at 12:45 pm.\n\n\n\nIf worried about any allergies\, feel free to contact me "Susan" at the number listed to RSVP. I can assist you personally. L'bri harnesses the power of Aloe by delivering Aloe-First skincare products that deliver Believable REAL results. Follow me on facebook at L'BRI with Susan for current and future events.
X-ALT-DESC;FMTTYPE=text/html:<span style="color:rgb(34\, 34\, 34)\; font-family:lato\; font-size:20px">Pop-Up Event!!! One Day!! Come and experience a L&#39\;bri hand spa after church\, morning jog/walk or during your relaxing day with a drink from Toast and Roast. This event is for Ladies and Men\, that would like their hands to feel and look better.&nbsp\;</span><br />\n<br />\n<span style="color:rgb(34\, 34\, 34)\; font-family:lato\; font-size:20px">&nbsp\;Feel free to bring a friend\, spouse\, neighbor or maybe someone else that you know who could benefit this experience. Two people can experience a hand spa at one time.&nbsp\;&nbsp\;RSVP your 10-15-minute slot at 224-806-3460 or Walk-In&#39\;s are welcome too. Hand spas will start at 10 am with the last opening at 12:45 pm.</span><br />\n<br />\n<span style="color:rgb(34\, 34\, 34)\; font-family:lato\; font-size:20px">If worried about any allergies\, feel free to contact me &quot\;Susan&quot\; at the number listed to RSVP. I can assist you personally. L&#39\;bri harnesses the power of Aloe by delivering Aloe-First skincare products that deliver Believable REAL results.&nbsp\;<span style="font-family:inherit\; font-size:18px">Follow me on facebook at L&#39\;BRI with Susan for current and future events.</span></span>
LOCATION:Toast And Roast McHenry 1250 N Green St McHenry\, IL. 60050
UID:e.1915.36877
SEQUENCE:3
DTSTAMP:20260425T040720Z
URL:http://business.mchenrychamber.com/events/details/hand-spa-day-come-enjoy-your-sunday-at-the-toast-and-roast-36877
END:VEVENT

END:VCALENDAR
