BEGIN:VCALENDAR
VERSION:2.0
PRODID:-//ChamberMaster//Event Calendar 2.0//EN
METHOD:PUBLISH
X-PUBLISHED-TTL:P3D
REFRESH-INTERVAL:P3D
CALSCALE:GREGORIAN
BEGIN:VEVENT
DTSTART:20260617T140000Z
DTEND:20260617T153000Z
X-MICROSOFT-CDO-ALLDAYEVENT:FALSE
SUMMARY:MC 7 Collaborate Marketing Connection Group
DESCRIPTION:MC7 Collaborate - Collaborative Networking meets the 1st and 3rd Wednesday of the month at 9:00 AM (networking) and 9:30 AM when the meeting starts. This is at Beacon Wealth Advisors.\n\nBuilding relationships in our local community: growing\, connecting\, and giving back. A group of serious business owners\, with good intentions\, integrity\, and POSITIVE VIBES\n\n____________________________________________________________\n\nThe McHenry Area Chamber?s leads referral groups\, also known as Marketing Connection groups (MCs)\, are available to members who are looking to increase their network and mutually provide and receive referrals and prospects to build their business. Each group is comprised of non-competing business categories (i.e. only one accounting firm per group).
X-ALT-DESC;FMTTYPE=text/html:<p>MC7 Collaborate -&nbsp\;Collaborative Networking meets the 1st and 3rd Wednesday of the month at 9:00 AM (networking) and&nbsp\;9:30 AM when the meeting starts. This is&nbsp\;at Beacon Wealth Advisors.</p>\n\n<p>Building relationships in our local community: growing\, connecting\, and giving back.&nbsp\;A&nbsp\;group of serious business owners\, with good intentions\, integrity\, and POSITIVE VIBES<br />\n____________________________________________________________<br />\n<em>The McHenry Area Chamber?s leads referral groups\, also known as Marketing Connection groups (MCs)\, are available to members who are looking to increase their network and mutually provide and receive referrals and prospects to build their business. Each group is comprised of non-competing business categories (i.e. only one accounting firm per group).</em></p>\n
LOCATION:Beacon Wealth Advisors 5435 Bull Valley Rd # 224 McHenry\, IL 60050
UID:e.1915.36444
SEQUENCE:3
DTSTAMP:20260425T103227Z
URL:http://business.mchenrychamber.com/events/details/mc-7-collaborate-marketing-connection-group-06-17-2026-36444
END:VEVENT

END:VCALENDAR
