BEGIN:VCALENDAR
VERSION:2.0
PRODID:-//ChamberMaster//Event Calendar 2.0//EN
METHOD:PUBLISH
X-PUBLISHED-TTL:P3D
REFRESH-INTERVAL:P3D
CALSCALE:GREGORIAN
BEGIN:VEVENT
DTSTART:20260403T164500Z
DTEND:20260403T180000Z
X-MICROSOFT-CDO-ALLDAYEVENT:FALSE
SUMMARY:Never Eat Alone - To Steki
DESCRIPTION:Tired of eating lunch alone? You don't have to! Join us for Never Eat Alone\, our relaxed\, no-pressure networking lunch where great conversations and great food come together.\n\n\n\nTo Steki is located on Main Street in McHenry and is a restaurant and bar serving gyros\, souvlaki and other Mediterranean foods as well as beefs\, burgers and hot dogs.\n\n***Limited menu. Specifically\, we will not be offering any gyro items on that day.\n\n\n\nGrab a seat\, order off the menu (everyone covers their own meal)\, share what you do\, and connect with fellow local professionals in a friendly\, welcoming setting. no formal agenda\, just genuine connections. One person will have their lunch paid for!
X-ALT-DESC;FMTTYPE=text/html:<p>Tired of eating lunch alone? You don&rsquo\;t have to! Join us for Never Eat Alone\, our relaxed\, no-pressure networking lunch where great conversations and great food come together.<br />\n<br />\nTo Steki is located on Main Street in McHenry and is a restaurant and bar serving gyros\, souvlaki and other Mediterranean foods as well as beefs\, burgers and hot dogs.<br />\n<u><strong><em><span style="color: rgb(34\, 34\, 34)\; font-family: Arial\, Helvetica\, sans-serif\; font-size: small\;">***Limited&nbsp\;menu.&nbsp\;Specifically\, we will not be offering any gyro items on that day.</span></em></strong></u><br />\n<br />\nGrab a seat\, order off the menu (everyone covers their own meal)\, share what you do\, and connect with fellow local professionals in a friendly\, welcoming setting. no formal agenda\, just genuine connections. One person will have their lunch paid for!</p>\n
LOCATION:3918 Main Street McHenry\, IL 60050
UID:e.1915.36649
SEQUENCE:3
DTSTAMP:20260425T024706Z
URL:http://business.mchenrychamber.com/events/details/never-eat-alone-to-steki-36649
END:VEVENT

END:VCALENDAR
