BEGIN:VCALENDAR
VERSION:2.0
PRODID:-//ChamberMaster//Event Calendar 2.0//EN
METHOD:PUBLISH
X-PUBLISHED-TTL:P3D
REFRESH-INTERVAL:P3D
CALSCALE:GREGORIAN
BEGIN:VEVENT
DTSTART:20241003T213000Z
DTEND:20241003T233000Z
X-MICROSOFT-CDO-ALLDAYEVENT:FALSE
SUMMARY:OPA! Dinner & CEU at White Oaks
DESCRIPTION:OPA! Join us for a Catered Dinner Event with 1.0 complimentary CEU for nurses\, social workers and professionals! Open networking\, drinks\, appetizers and dinner will be served from 4:30-5:30pm with the presentation to follow from 5:30-6:30pm. Guests will have a chance to win raffles\, receive fun swag items and meet area professionals. This event is free\, but RSVP is required 847-594-9393. Hosted at White Oaks Memory Care in McHenry in partnership with co-sponsors from JourneyCare\, Valley Hi\, The Kare Group\, Inspired Homecare\, Cremation by Water and Home for Life Advantage.
X-ALT-DESC;FMTTYPE=text/html:OPA! Join us for a Catered Dinner Event with 1.0 complimentary CEU for nurses\, social workers and professionals! Open networking\, drinks\, appetizers and dinner will be served from 4:30-5:30pm with the presentation to follow from 5:30-6:30pm. Guests will have a chance to win raffles\, receive fun swag items and meet area professionals. This event is free\, but RSVP is required 847-594-9393. Hosted at White Oaks Memory Care in McHenry in partnership with co-sponsors from JourneyCare\, Valley Hi\, The Kare Group\, Inspired Homecare\, Cremation by Water and Home for Life Advantage.&nbsp\;
LOCATION:White Oaks at McHenry 4605 W. Crystal Lake Rd. McHenry\, IL 60050
UID:e.1915.32712
SEQUENCE:3
DTSTAMP:20260421T083509Z
URL:http://business.mchenrychamber.com/events/details/opa-dinner-ceu-at-white-oaks-32712
END:VEVENT

END:VCALENDAR
