BEGIN:VCALENDAR
VERSION:2.0
PRODID:-//ChamberMaster//Event Calendar 2.0//EN
METHOD:PUBLISH
X-PUBLISHED-TTL:P3D
REFRESH-INTERVAL:P3D
CALSCALE:GREGORIAN
BEGIN:VEVENT
DTSTART:20161104T143000Z
DTEND:20161104T180000Z
X-MICROSOFT-CDO-ALLDAYEVENT:FALSE
SUMMARY:Scramble -- 2016 Fall
DESCRIPTION:The McHenry Scramble is a networking opportunity which revolves around a\n\nprogressive luncheon.  Though the luncheon is the heart of the networking\,\n\nthere is a lot of networking both before and after the event.
X-ALT-DESC;FMTTYPE=text/html:The McHenry Scramble is a networking opportunity which revolves around a<br />\nprogressive luncheon.&nbsp\; Though the luncheon is the heart of the networking\,<br />\nthere is a lot of networking both before and after the event.
LOCATION:McHenry Country Club 820 N. John Street McHenry\, IL 60050
UID:e.1915.10182
SEQUENCE:3
DTSTAMP:20260421T061623Z
URL:http://business.mchenrychamber.com/events/details/scramble-2016-fall-10182
END:VEVENT

END:VCALENDAR
