BEGIN:VCALENDAR
VERSION:2.0
PRODID:-//ChamberMaster//Event Calendar 2.0//EN
METHOD:PUBLISH
X-PUBLISHED-TTL:P3D
REFRESH-INTERVAL:P3D
CALSCALE:GREGORIAN
BEGIN:VEVENT
DTSTART:20161110T143000Z
DTEND:20161110T180000Z
X-MICROSOFT-CDO-ALLDAYEVENT:FALSE
SUMMARY:Veteran's Annual Honor's Event
DESCRIPTION:Annual Honor Breakfast in honor of our Veterans. Keepsake for Viet Nam Vets and a celebration for the Marine Corps Birthday. Job Fair Follows
X-ALT-DESC;FMTTYPE=text/html:Annual Honor Breakfast in honor of our Veterans. Keepsake for&nbsp\;Viet Nam&nbsp\;Vets and a celebration for the Marine Corps Birthday.&nbsp\;Job Fair Follows
LOCATION:V F W Veteran's Club\, Inc. 3002 W Route 120 McHenry\, IL 60051
UID:e.1915.10178
SEQUENCE:3
DTSTAMP:20260421T062823Z
URL:http://business.mchenrychamber.com/events/details/veteran-s-annual-honor-s-event-11-10-2016-10178
END:VEVENT

END:VCALENDAR
