BEGIN:VCALENDAR
VERSION:2.0
PRODID:-//ChamberMaster//Event Calendar 2.0//EN
METHOD:PUBLISH
X-PUBLISHED-TTL:P3D
REFRESH-INTERVAL:P3D
CALSCALE:GREGORIAN
BEGIN:VEVENT
DTSTART:20151112T150000Z
DTEND:20151112T180000Z
X-MICROSOFT-CDO-ALLDAYEVENT:FALSE
SUMMARY:Veteran's Annual Honor's Event
DESCRIPTION:Annual Honor Breakfast in honor of our Veterans. Keepsake for Korean War Vets. Job Fair Follows
X-ALT-DESC;FMTTYPE=text/html:Annual Honor Breakfast in honor of our Veterans. Keepsake for&nbsp\;Korean War&nbsp\;Vets. Job Fair Follows
LOCATION:V F W Veteran's Club\, Inc. 3002 W Route 120 McHenry\, IL 60051
UID:e.1915.6451
SEQUENCE:3
DTSTAMP:20260421T061640Z
URL:http://business.mchenrychamber.com/events/details/veteran-s-annual-honor-s-event-11-12-2015-6451
END:VEVENT

END:VCALENDAR
