BEGIN:VCALENDAR
VERSION:2.0
PRODID:-//ChamberMaster//Event Calendar 2.0//EN
METHOD:PUBLISH
X-PUBLISHED-TTL:P3D
REFRESH-INTERVAL:P3D
CALSCALE:GREGORIAN
BEGIN:VEVENT
DTSTART:20260505T170000Z
DTEND:20260505T220000Z
X-MICROSOFT-CDO-ALLDAYEVENT:FALSE
SUMMARY:Blood Drive
DESCRIPTION:Join Meadowland Church (Johnsburg) and The Orchard Church (McHenry)\, with the American Red Cross\, on May 5th to help others in need by donating blood.  \n\n\n\nThe need for blood is constant and only volunteer donors can fulfill that need for patients in our community. Nationwide\, someone needs a unit of blood every 2 to 3 seconds and most of us will need blood in our lifetime.\n\nPlease join our lifesaving mission and schedule an appointment today!
X-ALT-DESC;FMTTYPE=text/html:<span style="color:#333333"><span style="font-family:arial\,sans-serif">Join Meadowland Church (Johnsburg) and The Orchard Church (McHenry)\, with the American Red Cross\, on</span></span><span style="color:#000000"><span style="font-family:arial\,sans-serif">&nbsp\;May 5th</span></span><span style="color:#c00000"><span style="font-family:arial\,sans-serif">&nbsp\;</span></span><span style="color:#333333"><span style="font-family:arial\,sans-serif">to help others in need by donating blood. &nbsp\;<br />\n<br />\nThe need for blood is constant and only volunteer donors can fulfill that need for patients in our community. Nationwide\, someone needs a unit of blood every 2 to 3 seconds and most of us will need blood in our lifetime.</span></span><br />\n<span style="color:#333333"><span style="font-family:arial\,sans-serif">Please join our lifesaving mission and&nbsp\;</span></span><a href="https://www.redcrossblood.org/"><span style="font-family:arial\,sans-serif">schedule an appointment</span></a><span style="color:#333333"><span style="font-family:arial\,sans-serif">&nbsp\;today!</span></span>
LOCATION:
UID:e.1915.36854
SEQUENCE:3
DTSTAMP:20260420T184843Z
URL:https://business.mchenrychamber.com/events/details/blood-drive-36854
END:VEVENT

END:VCALENDAR
