BEGIN:VCALENDAR
VERSION:2.0
PRODID:-//ChamberMaster//Event Calendar 2.0//EN
METHOD:PUBLISH
X-PUBLISHED-TTL:P3D
REFRESH-INTERVAL:P3D
CALSCALE:GREGORIAN
BEGIN:VEVENT
DTSTART:20260408T133000Z
DTEND:20260408T153000Z
X-MICROSOFT-CDO-ALLDAYEVENT:FALSE
SUMMARY:Brain Boost for Busy Professionals
DESCRIPTION:Jump start your day on Wednesday\, April 8th! White Oaks is hosting professionals from 8:30-10:30am for networking\, healthy bites and an awesome presentation by Kim Ramos\, RN\, NBC-HWC\, of Sharp Again\, who will provide -actionable steps for protecting your most valuable asset\; YOUR BRAIN! Open networking and breakfast from 8:30-9:30am and presentation to follow. RSVP to Susan at 847-594-9393 or email marketing@hw-mchenry-slf.com
X-ALT-DESC;FMTTYPE=text/html:Jump start your day on Wednesday\, April 8<sup>th</sup>! White Oaks is hosting professionals from 8:30-10:30am for networking\, healthy bites and an awesome presentation by Kim Ramos\, RN\, NBC-HWC\, of Sharp Again\, who will provide -actionable steps for protecting your most valuable asset\; YOUR BRAIN! Open networking and breakfast from 8:30-9:30am and presentation to follow. RSVP to Susan at 847-594-9393 or email marketing@hw-mchenry-slf.com
LOCATION:White Oaks at McHenry 4605 W. Crystal Lake Rd. McHenry\, IL 60050
UID:e.1915.36647
SEQUENCE:3
DTSTAMP:20260421T102225Z
URL:https://business.mchenrychamber.com/events/details/brain-boost-for-busy-professionals-04-08-2026-36647
END:VEVENT

END:VCALENDAR
