BEGIN:VCALENDAR
VERSION:2.0
PRODID:-//ChamberMaster//Event Calendar 2.0//EN
METHOD:PUBLISH
X-PUBLISHED-TTL:P3D
REFRESH-INTERVAL:P3D
CALSCALE:GREGORIAN
BEGIN:VEVENT
DTSTART:20260506T180000Z
DTEND:20260506T200000Z
X-MICROSOFT-CDO-ALLDAYEVENT:FALSE
SUMMARY:Estate & Final Wishes Planning Seminar
DESCRIPTION:Join us for an educational seminar covering estate planning essentials and advance funeral planning. Learn what documents you need\, how to ensure your wishes are honored\, and how to reduce unnecessary stress for your loved ones.
X-ALT-DESC;FMTTYPE=text/html:<span style="color:rgb(49\, 61\, 32)">Join us for an educational seminar covering estate planning essentials and advance funeral planning. Learn what documents you need\, how to ensure your wishes are honored\, and how to reduce unnecessary stress for your loved ones.</span>
LOCATION:Davenport Family Funeral Home and Crematory 149 W Main St Barrington\, IL
UID:e.1915.36641
SEQUENCE:3
DTSTAMP:20260421T124846Z
URL:https://business.mchenrychamber.com/events/details/estate-final-wishes-planning-seminar-36641
END:VEVENT

END:VCALENDAR
