BEGIN:VCALENDAR
VERSION:2.0
PRODID:-//ChamberMaster//Event Calendar 2.0//EN
METHOD:PUBLISH
X-PUBLISHED-TTL:P3D
REFRESH-INTERVAL:P3D
CALSCALE:GREGORIAN
BEGIN:VEVENT
DTSTART:20270611T123000Z
DTEND:20270611T133000Z
X-MICROSOFT-CDO-ALLDAYEVENT:FALSE
SUMMARY:Fiesta Days Committee Meeting
DESCRIPTION:Planning meeting for Fiesta Days
X-ALT-DESC;FMTTYPE=text/html:Planning meeting for Fiesta Days
LOCATION:McHenry Area Chamber of Commerce 1307 N. Green Street McHenry\, IL 60050
UID:e.1915.33747
SEQUENCE:3
DTSTAMP:20260419T202205Z
URL:https://business.mchenrychamber.com/events/details/fiesta-days-committee-meeting-06-11-2027-33747
END:VEVENT

END:VCALENDAR
