BEGIN:VCALENDAR
VERSION:2.0
PRODID:-//ChamberMaster//Event Calendar 2.0//EN
METHOD:PUBLISH
X-PUBLISHED-TTL:P3D
REFRESH-INTERVAL:P3D
CALSCALE:GREGORIAN
BEGIN:VEVENT
DTSTART:20260502T140000Z
DTEND:20260502T220000Z
X-MICROSOFT-CDO-ALLDAYEVENT:FALSE
SUMMARY:Free Comic Book Day
DESCRIPTION:Mark your calendars! Free Comic Book Day (FCBD) is almost here. On the first Saturday in May\, May 2\, libraries across the country will be celebrating one of the best days of the year for fans. It's your chance to grab free comics\, discover new stories\, and connect with your local community of fans and creators.\n\nThis year's lineup is packed with support from some of the biggest names in comics. Here's the initial line up of comic publishers: Archie Comics\, DC Comics\, Dynamite Entertainment\, Image Comics\, Mad Cave Studios\, Oni Press\, Titan Comics\, Udon Entertainment and Vault Comics! There will be a story for every kind of reader.
X-ALT-DESC;FMTTYPE=text/html:<p>Mark your calendars!&nbsp\;Free Comic Book Day&nbsp\;(FCBD) is almost here. On the first Saturday in May\,&nbsp\;May 2\, libraries across the country will be celebrating one of the best days of the year for fans. It&rsquo\;s your chance to grab free comics\, discover new stories\, and connect with your local community of fans and creators.</p>\n\n<p>This year&rsquo\;s lineup is packed with support from some of the biggest names in comics. Here&rsquo\;s the initial line up of comic publishers: Archie Comics\, DC Comics\, Dynamite Entertainment\, Image Comics\, Mad Cave Studios\, Oni Press\, Titan Comics\, Udon Entertainment and Vault Comics! There will be a story for every kind of reader.</p>\n
LOCATION:McHenry Public Library District 809 Front St. McHenry\, IL 60050
UID:e.1915.36869
SEQUENCE:3
DTSTAMP:20260423T174504Z
URL:https://business.mchenrychamber.com/events/details/free-comic-book-day-36869
END:VEVENT

END:VCALENDAR
