BEGIN:VCALENDAR
VERSION:2.0
PRODID:-//ChamberMaster//Event Calendar 2.0//EN
METHOD:PUBLISH
X-PUBLISHED-TTL:P3D
REFRESH-INTERVAL:P3D
CALSCALE:GREGORIAN
BEGIN:VEVENT
DTSTART:20260517T170000Z
DTEND:20260517T210000Z
X-MICROSOFT-CDO-ALLDAYEVENT:FALSE
SUMMARY:Friends of the Library Spring Book Sale
DESCRIPTION:Check out the Friends of the McHenry Library Spring Used Book Sale. The book sale will feature hundreds of hardcover and paperback books\, movies\, music\, and more at bargain prices. Visitors are asked to park in the far northwest area of the parking lot and use the Warehouse entry. There will be no direct access to the sale from the Library. Anyone bringing in a scanner will be charged a $10 fee. Only cash and checks are accepted.
X-ALT-DESC;FMTTYPE=text/html:<p>Check out the Friends of the McHenry Library Spring Used Book Sale.&nbsp\;The book sale will feature hundreds of hardcover and paperback books\, movies\, music\, and more at bargain prices. Visitors are asked to park in the far northwest area of the parking lot and use the Warehouse entry. There will be no direct access to the sale from the Library. Anyone bringing in a scanner will be charged a $10 fee. Only cash and checks are accepted.&nbsp\;</p>\n
LOCATION:McHenry Public Library District 809 Front St. McHenry\, IL 60050
UID:e.1915.36872
SEQUENCE:3
DTSTAMP:20260423T175058Z
URL:https://business.mchenrychamber.com/events/details/friends-of-the-library-spring-book-sale-05-17-2026-36872
END:VEVENT

END:VCALENDAR
