BEGIN:VCALENDAR
VERSION:2.0
PRODID:-//ChamberMaster//Event Calendar 2.0//EN
METHOD:PUBLISH
X-PUBLISHED-TTL:P3D
REFRESH-INTERVAL:P3D
CALSCALE:GREGORIAN
BEGIN:VEVENT
DTSTART:20260509T150000Z
DTEND:20260509T170000Z
X-MICROSOFT-CDO-ALLDAYEVENT:FALSE
SUMMARY:Getting to Know FamilySearch (w/ MCIGS)
DESCRIPTION:FamilySearch is one of the largest\, most comprehensive sites for genealogy resources. Sponsored by the Church of Jesus Christ of Latter-Day Saints\, FamilySearch provides researchers with millions of records\, research wikis that act as resource guides\, and also offers great family history education. The best part is that it's free! The McHenry Library has also been a FamilySearch Affiliate for eight years. Affiliates have access to some records that aren't available with a regular account. Learn the basics on how to use this great genealogical resource with a tour of the website. Presented by the McHenry County Genealogical Society and the McHenry Public Library.
X-ALT-DESC;FMTTYPE=text/html:<p>FamilySearch is one of the largest\, most comprehensive sites for genealogy resources. Sponsored by the Church of Jesus Christ of Latter-Day Saints\, FamilySearch provides researchers with millions of records\, research wikis that act as resource guides\, and also offers great family history education. The best part is that it&rsquo\;s free! The McHenry Library has also been a FamilySearch Affiliate for eight years. Affiliates have access to some records that aren&#39\;t available with a regular account. Learn the basics on how to use this great genealogical resource with a tour of the website. Presented by the McHenry County Genealogical Society and the McHenry Public Library.&nbsp\;</p>\n
LOCATION:McHenry Public Library District 809 Front St. McHenry\, IL 60050
UID:e.1915.36865
SEQUENCE:3
DTSTAMP:20260423T174744Z
URL:https://business.mchenrychamber.com/events/details/getting-to-know-familysearch-w-mcigs-36865
END:VEVENT

END:VCALENDAR
