BEGIN:VCALENDAR
VERSION:2.0
PRODID:-//ChamberMaster//Event Calendar 2.0//EN
METHOD:PUBLISH
X-PUBLISHED-TTL:P3D
REFRESH-INTERVAL:P3D
CALSCALE:GREGORIAN
BEGIN:VEVENT
DTSTART:20260613T160000Z
DTEND:20260613T180000Z
X-MICROSOFT-CDO-ALLDAYEVENT:FALSE
SUMMARY:Heart of the Fox: On Wheels
DESCRIPTION:Join us for a special Heart of the Fox: On Wheels event featuring professional skateboard instructor Miles Canevello!\n\nCome out to the Ryan Buss Memorial Skate Park on June 13th from 11 AM   1 PM for an inspiring and interactive experience. Miles will share his personal journey in the skateboarding world how he got started\, the challenges he's overcome\, and what continues to drive his passion today.\n\nAfter hearing his story\, stick around and be part of an exciting opening skate session\, where Miles will hit the park and connect with the community. Whether you're an experienced skater or just getting started\, this is a great opportunity to learn\, watch\, and be inspired.\n\nBring your board\, bring your friends\, and come celebrate the energy\, creativity\, and community that skateboarding brings.
X-ALT-DESC;FMTTYPE=text/html:<div class="xdj266r x14z9mp xat24cr x1lziwak x1vvkbs" style="margin-inline: 0px\; overflow-wrap: break-word\; margin-bottom: 0px\; margin-top: 0px\; font-family: system-ui\, -apple-system\, &quot\;system-ui&quot\;\, &quot\;.SFNSText-Regular&quot\;\, sans-serif\; color: rgb(8\, 8\, 9)\; font-size: 15px\;">Join us for a special Heart of the Fox: On Wheels event featuring professional skateboard instructor Miles Canevello!</div>\n\n<div class="x14z9mp xat24cr x1lziwak x1vvkbs xtlvy1s" style="margin-inline: 0px\; overflow-wrap: break-word\; margin-bottom: 0px\; margin-top: 0.5em\; font-family: system-ui\, -apple-system\, &quot\;system-ui&quot\;\, &quot\;.SFNSText-Regular&quot\;\, sans-serif\; color: rgb(8\, 8\, 9)\; font-size: 15px\;">Come out to the Ryan Buss Memorial Skate Park on June 13th from 11 AM &ndash\; 1 PM for an inspiring and interactive experience. Miles will share his personal journey in the skateboarding world&mdash\;how he got started\, the challenges he&rsquo\;s overcome\, and what continues to drive his passion today.</div>\n\n<div class="x14z9mp xat24cr x1lziwak x1vvkbs xtlvy1s" style="margin-inline: 0px\; overflow-wrap: break-word\; margin-bottom: 0px\; margin-top: 0.5em\; font-family: system-ui\, -apple-system\, &quot\;system-ui&quot\;\, &quot\;.SFNSText-Regular&quot\;\, sans-serif\; color: rgb(8\, 8\, 9)\; font-size: 15px\;">After hearing his story\, stick around and be part of an exciting opening skate session\, where Miles will hit the park and connect with the community. Whether you&rsquo\;re an experienced skater or just getting started\, this is a great opportunity to learn\, watch\, and be inspired.</div>\n\n<div class="x14z9mp xat24cr x1lziwak x1vvkbs xtlvy1s" style="margin-inline: 0px\; overflow-wrap: break-word\; margin-bottom: 0px\; margin-top: 0.5em\; font-family: system-ui\, -apple-system\, &quot\;system-ui&quot\;\, &quot\;.SFNSText-Regular&quot\;\, sans-serif\; color: rgb(8\, 8\, 9)\; font-size: 15px\;">Bring your board\, bring your friends\, and come celebrate the energy\, creativity\, and community that skateboarding brings.</div>\n
LOCATION:Ryan Buss Zone Skate Park 330 KNox Drive. McHenry\, IL 60050
UID:e.1915.36861
SEQUENCE:3
DTSTAMP:20260421T124230Z
URL:https://business.mchenrychamber.com/events/details/heart-of-the-fox-on-wheels-36861
END:VEVENT

END:VCALENDAR
