BEGIN:VCALENDAR
VERSION:2.0
PRODID:-//ChamberMaster//Event Calendar 2.0//EN
METHOD:PUBLISH
X-PUBLISHED-TTL:P3D
REFRESH-INTERVAL:P3D
CALSCALE:GREGORIAN
BEGIN:VEVENT
DTSTART:20241123T170000Z
DTEND:20241123T230000Z
X-MICROSOFT-CDO-ALLDAYEVENT:FALSE
SUMMARY:Holiday Market at the McHenry Riverwalk District
DESCRIPTION:Join us for some holiday cheer & shopping at the McHenry Riverwalk District. Shop at our 10 tiny shops & market vendors in Miller Point Park\, eat at a food truck & enjoy entertainment in the gazebo. \n.\n\n11/16 theme is Gratitude & Glee\n\n* Food Truck is E.J. Pierogi from 11-5pm\n\n* 10 tiny shops - AteaCo Coffee & Tea\, Bright Nest\, Edge Designs.\, KEST Jewelry\, Marvin's Toy Store\, Patina Wine Shop McHenry\, Preserved Peculiarities\, The Bumble Bread Co.\, The Pieceful Project & Vintage Mercantile\n\n* Market Vendors are Annabelle's Busy Bees & More\, Artisan Marketplace\, Holiday Hub\, Kefi Way of Life\, Nikki Stitches Crochet\, Profound Soul\, Reinhart Collectives\, Sawdust & Callalillies\, Suburban Dog Company\, Tasty Tumblers\, The Boutique Babes\, Windy Prairie Painting\n\n* Entertainment Holiday Karaoke with Sundowner Entertainment from 12-3pm in the small blue gazebo\n\n11/23 theme is Whoville\n\n* Food Truck is El Vado Mexican Food Truck & Cruzin Confections from 11-5pm\n\n* 10 tiny shops - AteaCo Coffee & Tea\, Bright Nest\, Edge Designs.\, KEST Jewelry\, Marvin's Toy Store\, Patina Wine Shop McHenry\, Preserved Peculiarities\, The Bumble Bread Co.\, The Pieceful Project & Vintage Mercantile\n\n* Market Vendors are Annabelle's Busy Bees & More\, Artisan Marketplace\, Dead Smooth\, FAT Candle Company\, Haven Jewelry\, Holiday Hub\, Kefi Way of Life\, Riley&soapco\, Sawdust & Callalillies\, Tasty Tumblers\, The Boutique Babes\, Windy Prairie Painting\n\n* Entertainment is McHenry's Holiday Walk all over Downtown McHenry including a pop-up performance by Mar Ray Dance Studio.\n\n11/30 theme is Around the World\n\n* Food Truck is Da Local Boy from 11-5pm.\n\n* 10 tiny shops - AteaCo Coffee & Tea\, Bright Nest\, Edge Designs.\, KEST Jewelry\, Marvin's Toy Store\, Patina Wine Shop McHenry\, Preserved Peculiarities\, The Bumble Bread Co.\, The Pieceful Project & Vintage Mercantile\n\n* Market Vendors are Alchemich Prints\, Bashful & Bold\, FAT Candle Company\, Holiday Hub\, RHR Rustics\, Suzie's Creations\, Tasty Tumblers\, The Boutique Babes\, Windy Prairie Painting\n\n* Entertainment is Small Business Saturday Passport Event - details to follow\n\n12/7 theme is Rudolph\, the Red Nose Reindeer\n\n* Food Truck is Stix & Noodles from 11-5pm\n\n* 10 tiny shops - AteaCo Coffee & Tea\, Bright Nest\, Edge Designs.\, KEST Jewelry\, Marvin's Toy Store\, Patina Wine Shop McHenry\, Preserved Peculiarities\, The Bumble Bread Co.\, The Pieceful Project & Vintage Mercantile\n\n* Market Vendors are Alchemich Prints\, Artisan Marketplace\, D.R. Makercraft\, FAT Candle Company\, Generous Intentions\, Kefi Way of Life\, Midwest Crochet\, Sawdust & Callalillies\, Tasty Tumblers\, The Boutique Babes\, Voices Books\, Windy Prairie Painting\n\n* Entertainment US Army Band & Parkland School Band in small blue gazebo along with our "elves" play reindeer games & kids can make "reindeer food" for Christmas Eve.
X-ALT-DESC;FMTTYPE=text/html:Join us for some holiday cheer &amp\; shopping at the McHenry Riverwalk District. Shop at our 10 tiny shops &amp\; market vendors in Miller Point Park\, eat at a food truck &amp\; enjoy entertainment in the gazebo.&nbsp\;\n<div color:="" font-size:="">.</div>\n\n<div color:="" font-size:=""><u><strong>11/16 theme is Gratitude &amp\; Glee</strong></u><br />\n* Food Truck is E.J. Pierogi from 11-5pm<br />\n* 10 tiny shops - AteaCo Coffee &amp\; Tea\, Bright Nest\, Edge Designs.\, KEST Jewelry\, Marvin&#39\;s Toy Store\, Patina Wine Shop McHenry\, Preserved Peculiarities\, The Bumble Bread Co.\, The Pieceful Project &amp\; Vintage Mercantile<br />\n* Market Vendors are Annabelle&#39\;s Busy Bees &amp\; More\, Artisan Marketplace\, Holiday Hub\, Kefi Way of Life\, Nikki Stitches Crochet\, Profound Soul\, Reinhart Collectives\, Sawdust &amp\; Callalillies\, Suburban Dog Company\, Tasty Tumblers\, The Boutique Babes\, Windy Prairie Painting<br />\n* Entertainment Holiday Karaoke with Sundowner Entertainment from 12-3pm in the small blue gazebo</div>\n\n<div color:="" font-size:=""><u><strong>11/23 theme is Whoville</strong></u><br />\n* Food Truck is El Vado Mexican Food Truck &amp\; Cruzin Confections from 11-5pm<br />\n* 10 tiny shops - AteaCo Coffee &amp\; Tea\, Bright Nest\, Edge Designs.\, KEST Jewelry\, Marvin&#39\;s Toy Store\, Patina Wine Shop McHenry\, Preserved Peculiarities\, The Bumble Bread Co.\, The Pieceful Project &amp\; Vintage Mercantile<br />\n* Market Vendors are Annabelle&#39\;s Busy Bees &amp\; More\, Artisan Marketplace\, Dead Smooth\, FAT Candle Company\, Haven Jewelry\, Holiday Hub\, Kefi Way of Life\, Riley&amp\;soapco\, Sawdust &amp\; Callalillies\, Tasty Tumblers\, The Boutique Babes\, Windy Prairie Painting<br />\n* Entertainment is McHenry&#39\;s Holiday Walk all over Downtown McHenry including a pop-up performance by Mar Ray Dance Studio.</div>\n\n<div color:="" font-size:=""><u><strong>11/30 theme is Around the World</strong></u><br />\n* Food Truck is Da Local Boy from 11-5pm.<br />\n* 10 tiny shops - AteaCo Coffee &amp\; Tea\, Bright Nest\, Edge Designs.\, KEST Jewelry\, Marvin&#39\;s Toy Store\, Patina Wine Shop McHenry\, Preserved Peculiarities\, The Bumble Bread Co.\, The Pieceful Project &amp\; Vintage Mercantile<br />\n* Market Vendors are Alchemich Prints\, Bashful &amp\; Bold\, FAT Candle Company\, Holiday Hub\, RHR Rustics\, Suzie&#39\;s Creations\, Tasty Tumblers\, The Boutique Babes\, Windy Prairie Painting<br />\n* Entertainment is Small Business Saturday Passport Event - details to follow</div>\n\n<div color:="" font-size:=""><strong>12/7 theme is Rudolph\, the Red Nose Reindeer</strong><br />\n* Food Truck is Stix &amp\; Noodles from 11-5pm<br />\n* 10 tiny shops - AteaCo Coffee &amp\; Tea\, Bright Nest\, Edge Designs.\, KEST Jewelry\, Marvin&#39\;s Toy Store\, Patina Wine Shop McHenry\, Preserved Peculiarities\, The Bumble Bread Co.\, The Pieceful Project &amp\; Vintage Mercantile<br />\n* Market Vendors are Alchemich Prints\, Artisan Marketplace\, D.R. Makercraft\, FAT Candle Company\, Generous Intentions\, Kefi Way of Life\, Midwest Crochet\, Sawdust &amp\; Callalillies\, Tasty Tumblers\, The Boutique Babes\, Voices Books\, Windy Prairie Painting<br />\n* Entertainment US Army Band &amp\; Parkland School Band in small blue gazebo along with our &quot\;elves&quot\; play reindeer games &amp\; kids can make &quot\;reindeer food&quot\; for Christmas Eve.</div>\n
LOCATION:McHenry Riverwalk District 1202 Riverside Drive McHenry\, IL 60050
UID:e.1915.32706
SEQUENCE:3
DTSTAMP:20260421T100648Z
URL:https://business.mchenrychamber.com/events/details/holiday-market-at-the-mchenry-riverwalk-district-11-23-2024-32706
END:VEVENT

END:VCALENDAR
