BEGIN:VCALENDAR
VERSION:2.0
PRODID:-//ChamberMaster//Event Calendar 2.0//EN
METHOD:PUBLISH
X-PUBLISHED-TTL:P3D
REFRESH-INTERVAL:P3D
CALSCALE:GREGORIAN
BEGIN:VEVENT
DTSTART:20260513T170000Z
DTEND:20260513T183000Z
X-MICROSOFT-CDO-ALLDAYEVENT:FALSE
SUMMARY:Lunch & Learn Burnout & Self-Care in the Workplace
DESCRIPTION:May is Mental Health Awareness Month! Professionals are invited to join us at White Oaks at McHenry for a presentation by NAMI: Burnout and Self-Care in the Workplace. Space is limited so please RSVP to 815-344-2970 or email sales@whiteoaks-mchenry.com\n\n\n\nParticipants are encouraged to support a Donation Drive for NAMI's Drop-in Center in Crystal Lake.
X-ALT-DESC;FMTTYPE=text/html:May is Mental Health Awareness Month! Professionals are invited to join us at White Oaks at McHenry for a presentation by NAMI: Burnout and Self-Care in the Workplace. Space is limited so please RSVP to 815-344-2970 or email sales@whiteoaks-mchenry.com<br />\n<br />\nParticipants are encouraged to support a Donation Drive for NAMI&#39\;s Drop-in Center in Crystal Lake.&nbsp\;
LOCATION:White Oaks at McHenry 4605 W. Crystal Lake Rd. McHenry\, IL 60050
UID:e.1915.36859
SEQUENCE:3
DTSTAMP:20260421T112213Z
URL:https://business.mchenrychamber.com/events/details/lunch-learn-burnout-self-care-in-the-workplace-36859
END:VEVENT

END:VCALENDAR
