BEGIN:VCALENDAR
VERSION:2.0
PRODID:-//ChamberMaster//Event Calendar 2.0//EN
METHOD:PUBLISH
X-PUBLISHED-TTL:P3D
REFRESH-INTERVAL:P3D
CALSCALE:GREGORIAN
BEGIN:VEVENT
DTSTART:20260429T230000Z
DTEND:20260430T010000Z
X-MICROSOFT-CDO-ALLDAYEVENT:FALSE
SUMMARY:"May Day Preview" by Patrick Murfin\, historian\, activist\, and Blogger
DESCRIPTION:Join us for The Memorial Day Preview\, featuring longtime activist\, historian\, and blogger Patrick Murfin. You'll also have the opportunity to meet and chat with Democratic Party candidates from McHenry County\, including Amin Karim for County Treasurer\, Nabeela Syed for State Senator District 26\, Maria Peterson for State Rep District 52 and others\, in a welcoming and relaxed setting at Port Edward Restaurant in Algonquin.
X-ALT-DESC;FMTTYPE=text/html:Join us for <strong><em>The Memorial Day Preview</em></strong>\, featuring longtime activist\, historian\, and blogger <strong>Patrick Murfin</strong>. You&rsquo\;ll also have the opportunity to meet and chat with Democratic Party candidates from McHenry County\, including <strong>Amin Karim</strong> <strong>for County Treasurer</strong>\, <strong>Nabeela Syed for State Senator District 26</strong>\, <strong>Maria Peterson for State Rep District 52 </strong>and others\, in a welcoming and relaxed setting at Port Edward Restaurant in Algonquin.
LOCATION:Port Edward Restaurant 20 W. Algonquin Road Algonquin\, IL 60102
UID:e.1915.36862
SEQUENCE:3
DTSTAMP:20260421T020319Z
URL:https://business.mchenrychamber.com/events/details/may-day-preview-by-patrick-murfin-historian-and-blogger-36862
END:VEVENT

END:VCALENDAR
