BEGIN:VCALENDAR
VERSION:2.0
PRODID:-//ChamberMaster//Event Calendar 2.0//EN
METHOD:PUBLISH
X-PUBLISHED-TTL:P3D
REFRESH-INTERVAL:P3D
CALSCALE:GREGORIAN
BEGIN:VEVENT
DTSTART:20220105T210000Z
DTEND:20220105T220000Z
X-MICROSOFT-CDO-ALLDAYEVENT:FALSE
SUMMARY:MC VII Meeting
DESCRIPTION:Marketing Connection VII meets the first and third Wednesdays of each month at 3 pm at The Cullom Knoll 3018 Hickory Dr\, McCullom Lake\, IL 60050. Please contact Jeff Young at 815-790-8521 to visit.
X-ALT-DESC;FMTTYPE=text/html:Marketing Connection VII meets the first and third Wednesdays of each month at 3 pm at The Cullom Knoll 3018 Hickory Dr\, McCullom Lake\, IL 60050. Please contact Jeff Young at 815-790-8521 to visit.<br />\n<br />\n&nbsp\;
LOCATION:The Cullom Knoll 3018 Hickory Dr McCullom Lake\, IL 60050
UID:e.1915.18269
SEQUENCE:3
DTSTAMP:20260421T100805Z
URL:https://business.mchenrychamber.com/events/details/mc-vii-meeting-01-05-2022-18269
END:VEVENT

END:VCALENDAR
