BEGIN:VCALENDAR
VERSION:2.0
PRODID:-//ChamberMaster//Event Calendar 2.0//EN
METHOD:PUBLISH
X-PUBLISHED-TTL:P3D
REFRESH-INTERVAL:P3D
CALSCALE:GREGORIAN
BEGIN:VEVENT
DTSTART:20270617T123000Z
DTEND:20270617T133000Z
X-MICROSOFT-CDO-ALLDAYEVENT:FALSE
SUMMARY:MC1 Marketing Connection Group
DESCRIPTION:Marketing Connection Group I meets the first and third Thursdays of each month at 7:30 a.m. at Green Street Cafe.\n\n____________________________________________________________\n\nThe McHenry Area Chamber's leads referral groups\, also known as Marketing Connection groups (MCs)\, are available to members who are looking to increase their network and mutually provide and receive referrals and prospects to build their business. Each group is comprised of non-competing business categories (i.e. only one accounting firm per group).
X-ALT-DESC;FMTTYPE=text/html:Marketing Connection Group I meets the first and third Thursdays of each month at 7:30 a.m. at Green Street Cafe.<br />\n____________________________________________________________<br />\n<em>The McHenry Area Chamber&rsquo\;s leads referral groups\, also known as Marketing Connection groups (MCs)\, are available to members who are looking to increase their network and mutually provide and receive referrals and prospects to build their business. Each group is comprised of non-competing business categories (i.e. only one accounting firm per group).</em>
LOCATION:Green Street Cafe 1219 N Green St McHenry\, IL 60050
UID:e.1915.30236
SEQUENCE:3
DTSTAMP:20260419T201914Z
URL:https://business.mchenrychamber.com/events/details/mc1-marketing-connection-group-06-17-2027-30236
END:VEVENT

END:VCALENDAR
