BEGIN:VCALENDAR
VERSION:2.0
PRODID:-//ChamberMaster//Event Calendar 2.0//EN
METHOD:PUBLISH
X-PUBLISHED-TTL:P3D
REFRESH-INTERVAL:P3D
CALSCALE:GREGORIAN
BEGIN:VEVENT
DTSTART:20260226T010000Z
DTEND:20260226T033000Z
X-MICROSOFT-CDO-ALLDAYEVENT:FALSE
SUMMARY:McHenry's Next -- Comedy Night
DESCRIPTION:Laugh. Connect. Kick Off the Year Right.\n\nWe're starting the year strong with our very first Young Professionals event and it's one you won't want to miss! Join us at The Vixen for Comedy Night featuring Sean Donnelly live on stage. You may recognize him from Conan\, The Tonight Show with Jimmy Fallon\, Don't Tell Comedy\, or The Late Show with Stephen Colbert.\n\n\n	7:00 PM Arrive early to mix\, mingle\, and network with fellow young professionals\n	Appetizers provided for those registered with our group\n	Showtime: 8:00 PM\n	The Vixen | 21+ Only\n\n\nThe Vixen is reserving a dedicated section just for our group\, so you'll be surrounded by familiar faces and future friends throughout the night. Whether you're looking to grow your network\, unwind after work\, or just laugh your way into the new year\, this event has it all.
X-ALT-DESC;FMTTYPE=text/html:<p data-end="200" data-start="148"><strong>Laugh. Connect. Kick Off the Year Right.</strong></p>\n\n<p data-end="550" data-start="202">We&rsquo\;re starting the year strong with our very first Young Professionals event and it&rsquo\;s one you won&rsquo\;t want to miss! Join us at The Vixen for Comedy Night featuring Sean Donnelly live on stage. You may recognize him from Conan\, The Tonight Show with Jimmy Fallon\, Don&rsquo\;t Tell Comedy\, or The Late Show with Stephen Colbert.</p>\n\n<ul>\n	<li data-end="918" data-start="676">7:00 PM Arrive early to mix\, mingle\, and network with fellow young professionals</li>\n	<li data-end="918" data-start="676">Appetizers provided for those registered with our group</li>\n	<li data-end="918" data-start="676">Showtime: 8:00 PM</li>\n	<li data-end="918" data-start="676">The Vixen | 21+ Only</li>\n</ul>\n\n<p data-end="1200" data-start="920">The Vixen is reserving a dedicated section just for our group\, so you&rsquo\;ll be surrounded by familiar faces and future friends throughout the night. Whether you&rsquo\;re looking to grow your network\, unwind after work\, or just laugh your way into the new year\, this event has it all.</p>\n
LOCATION:1208 N Green Street McHenry IL 60050
UID:e.1915.36425
SEQUENCE:3
DTSTAMP:20260421T084223Z
URL:https://business.mchenrychamber.com/events/details/mchenry-s-next-comedy-night-36425
END:VEVENT

END:VCALENDAR
