BEGIN:VCALENDAR
VERSION:2.0
PRODID:-//ChamberMaster//Event Calendar 2.0//EN
METHOD:PUBLISH
X-PUBLISHED-TTL:P3D
REFRESH-INTERVAL:P3D
CALSCALE:GREGORIAN
BEGIN:VEVENT
DTSTART:20260509T140000Z
DTEND:20260509T160000Z
X-MICROSOFT-CDO-ALLDAYEVENT:FALSE
SUMMARY:Meena 5k
DESCRIPTION:We invite you to join Meadowland Church in raising funds for the Meena Project - a Christ-centered initiative that provides love\, food\, and education to women and children in Bangladesh who are caught in one of the world's largest brothels. The hope of Meena Project is to help children break the cycle of this generational nightmare.  \n\n \n\nMeadowland Church is hosting a 5k run/walk on Sat\, May 9th at Moraine Hills State Park to raise funds for The Meena Project. Registration opens at 8:30am\, race begins at 9am. The suggested donation is $40/person or $100/family. \n\n \n\nFor more information and to register:  https://www.meadowlandchurch.org/meena-5k
X-ALT-DESC;FMTTYPE=text/html:<div>We invite you to join Meadowland Church&nbsp\;in raising funds for the Meena Project - a Christ-centered initiative that provides love\, food\, and education to women and children in Bangladesh who are caught in one of the world&#39\;s largest brothels. The hope of Meena Project is to help children break the cycle of this generational nightmare. &nbsp\;</div>\n\n<div>&nbsp\;</div>\n\n<div>Meadowland Church is hosting a 5k run/walk on Sat\, May 9th at Moraine Hills State Park to raise funds for The Meena Project. Registration opens at 8:30am\, race begins at 9am. The suggested donation is $40/person or $100/family.&nbsp\;</div>\n\n<div>&nbsp\;</div>\n\n<div>For more information and to register: &nbsp\;<span style="color:rgb(17\, 85\, 204)"><a class="OWAAutoLink" href="https://www.meadowlandchurch.org/meena-5k" id="OWAc6a7cf5b-f829-a9a3-2219-5a658c7779dc" style="color: rgb(17\, 85\, 204)\;" target="_blank">https://www.meadowlandchurch.org/meena-5k</a></span></div>\n\n<div>&nbsp\;</div>\n
LOCATION:
UID:e.1915.36863
SEQUENCE:3
DTSTAMP:20260423T125151Z
URL:https://business.mchenrychamber.com/events/details/meena-5k-36863
END:VEVENT

END:VCALENDAR
