BEGIN:VCALENDAR
VERSION:2.0
PRODID:-//ChamberMaster//Event Calendar 2.0//EN
METHOD:PUBLISH
X-PUBLISHED-TTL:P3D
REFRESH-INTERVAL:P3D
CALSCALE:GREGORIAN
BEGIN:VEVENT
DTSTART:20260514T223000Z
DTEND:20260515T013000Z
X-MICROSOFT-CDO-ALLDAYEVENT:FALSE
SUMMARY:Member Preview Friends of the Library Spring Book Sale
DESCRIPTION:Member Preview Friends of the Library Spring Book Sale. To access the Preview Night sale\, membership applications must be turned in by April 30. \n\nCheck out the Friends of the McHenry Library Spring Used Book Sale. The book sale will feature hundreds of hardcover and paperback books\, movies\, music\, and more at bargain prices. Visitors are asked to park in the far northwest area of the parking lot and use the Warehouse entry. There will be no direct access to the sale from the Library. Anyone bringing in a scanner will be charged a $10 fee. Only cash and checks are accepted.
X-ALT-DESC;FMTTYPE=text/html:<p>Member Preview Friends of the Library Spring Book Sale. To access the Preview Night sale\, membership applications must be turned in by April 30.&nbsp\;</p>\n\n<p>Check out the Friends of the McHenry Library Spring Used Book Sale.&nbsp\;The book sale will feature hundreds of hardcover and paperback books\, movies\, music\, and more at bargain prices. Visitors are asked to park in the far northwest area of the parking lot and use the Warehouse entry. There will be no direct access to the sale from the Library. Anyone bringing in a scanner will be charged a $10 fee. Only cash and checks are accepted.&nbsp\;</p>\n\n<p>&nbsp\;</p>\n
LOCATION:McHenry Public Library District 809 Front St. McHenry\, IL 60050
UID:e.1915.36870
SEQUENCE:3
DTSTAMP:20260423T175053Z
URL:https://business.mchenrychamber.com/events/details/member-preview-friends-of-the-library-spring-book-sale-36870
END:VEVENT

END:VCALENDAR
