BEGIN:VCALENDAR
VERSION:2.0
PRODID:-//ChamberMaster//Event Calendar 2.0//EN
METHOD:PUBLISH
X-PUBLISHED-TTL:P3D
REFRESH-INTERVAL:P3D
CALSCALE:GREGORIAN
BEGIN:VEVENT
DTSTART:20260505T200000Z
DTEND:20260505T210000Z
X-MICROSOFT-CDO-ALLDAYEVENT:FALSE
SUMMARY:Picture Book Bingo
DESCRIPTION:Celebrate Children's Book Week with Picture Book Bingo!
X-ALT-DESC;FMTTYPE=text/html:<p>Celebrate Children&rsquo\;s Book Week with Picture Book Bingo!&nbsp\;</p>\n
LOCATION:McHenry Public Library District 809 Front St. McHenry\, IL 60050
UID:e.1915.36867
SEQUENCE:3
DTSTAMP:20260423T174541Z
URL:https://business.mchenrychamber.com/events/details/picture-book-bingo-36867
END:VEVENT

END:VCALENDAR
