BEGIN:VCALENDAR
VERSION:2.0
PRODID:-//ChamberMaster//Event Calendar 2.0//EN
METHOD:PUBLISH
X-PUBLISHED-TTL:P3D
REFRESH-INTERVAL:P3D
CALSCALE:GREGORIAN
BEGIN:VEVENT
DTSTART:20200917T213000Z
DTEND:20200917T214500Z
X-MICROSOFT-CDO-ALLDAYEVENT:FALSE
SUMMARY:Ribbon Cutting - All Marine's Retro Rentals
DESCRIPTION:Join us in celebrating the opening of All Marine Retro Rentals\, located at Miller Point (along the Riverwalk).  In conjunction with the city of McHenry\, they are providing retro boats\, pontoons\, kayaks\, paddleboards\, canoes\, and more for the community to enjoy.
X-ALT-DESC;FMTTYPE=text/html:<div itemprop="streetAddress">\n<div>Join us in celebrating the opening of All Marine Retro Rentals\, located at Miller Point (along the Riverwalk).&nbsp\;&nbsp\;In conjunction with the city of McHenry\,&nbsp\;they&nbsp\;are providing retro boats\, pontoons\, kayaks\, paddleboards\, canoes\, and more for the community to enjoy.</div>\n</div>\n
LOCATION:Kiosk is located at 1202 N. Riverside Drive\, McHenry\, IL 60050 (at Miller Point\, 1 block south of Rte. 120 on Riverside Dr.)
UID:e.1915.20085
SEQUENCE:3
DTSTAMP:20260425T225650Z
URL:https://business.mchenrychamber.com/events/details/ribbon-cutting-all-marine-s-retro-rentals-20085
END:VEVENT

END:VCALENDAR
