BEGIN:VCALENDAR
VERSION:2.0
PRODID:-//ChamberMaster//Event Calendar 2.0//EN
METHOD:PUBLISH
X-PUBLISHED-TTL:P3D
REFRESH-INTERVAL:P3D
CALSCALE:GREGORIAN
BEGIN:VEVENT
DTSTART:20260513T220000Z
DTEND:20260513T230000Z
X-MICROSOFT-CDO-ALLDAYEVENT:FALSE
SUMMARY:Seed Starting Class for Tweens and Teens
DESCRIPTION:Grow a green thumb with this basic introduction to seed starting.
X-ALT-DESC;FMTTYPE=text/html:<p>Grow a green thumb with this basic introduction to seed starting.&nbsp\;</p>\n
LOCATION:McHenry Public Library District 809 Front St. McHenry\, IL 60050
UID:e.1915.36868
SEQUENCE:3
DTSTAMP:20260423T174639Z
URL:https://business.mchenrychamber.com/events/details/seed-starting-class-for-tweens-and-teens-36868
END:VEVENT

END:VCALENDAR
