BEGIN:VCALENDAR
VERSION:2.0
PRODID:-//ChamberMaster//Event Calendar 2.0//EN
METHOD:PUBLISH
X-PUBLISHED-TTL:P3D
REFRESH-INTERVAL:P3D
CALSCALE:GREGORIAN
BEGIN:VEVENT
DTSTART:20260505T160000Z
DTEND:20260505T170000Z
X-MICROSOFT-CDO-ALLDAYEVENT:FALSE
SUMMARY:Senior Bytes: Google Photos®
DESCRIPTION:Byte size\, easy to digest tutorial for anybody struggling with aspects Google Photos. \n\nAttendees must have a Google email and password.
X-ALT-DESC;FMTTYPE=text/html:<p>Byte size\, easy to digest tutorial for anybody struggling with aspects Google Photos.&nbsp\;</p>\n\n<p>Attendees must have a Google email and password.</p>\n
LOCATION:McHenry Public Library District 809 Front St. McHenry\, IL 60050
UID:e.1915.36866
SEQUENCE:3
DTSTAMP:20260423T174445Z
URL:https://business.mchenrychamber.com/events/details/senior-bytes-google-photos-36866
END:VEVENT

END:VCALENDAR
