BEGIN:VCALENDAR
VERSION:2.0
PRODID:-//ChamberMaster//Event Calendar 2.0//EN
METHOD:PUBLISH
X-PUBLISHED-TTL:P3D
REFRESH-INTERVAL:P3D
CALSCALE:GREGORIAN
BEGIN:VEVENT
DTSTART:20260617T230000Z
DTEND:20260618T010000Z
X-MICROSOFT-CDO-ALLDAYEVENT:FALSE
SUMMARY:Silent Book Club - McHenry Chapter
DESCRIPTION:Join our Silent Book Club! Spend an hour reading without distractions\, and then feel free to socialize\, shop\, or depart. Bring your own snacks and drinks to enjoy during the event.\n\n6:00 - gather & socialize\n\n6:30 - 7:30 silent read\n\n7:35 - book stack photo op\n\n8:00 - hard stop
X-ALT-DESC;FMTTYPE=text/html:<div>Join our Silent Book Club! Spend an hour reading without distractions\, and then feel free to socialize\, shop\, or depart. Bring your own snacks and drinks to enjoy during the event.</div>\n\n<div>6:00 - gather &amp\; socialize<br />\n6:30 - 7:30 silent read<br />\n7:35 - book stack photo op<br />\n8:00 - hard stop</div>\n
LOCATION:Shop 3430 3430 W. Elm St. McHenry
UID:e.1915.36406
SEQUENCE:3
DTSTAMP:20260423T192015Z
URL:https://business.mchenrychamber.com/events/details/silent-book-club-mchenry-chapter-06-17-2026-36406
END:VEVENT

END:VCALENDAR
