BEGIN:VCALENDAR
VERSION:2.0
PRODID:-//ChamberMaster//Event Calendar 2.0//EN
METHOD:PUBLISH
X-PUBLISHED-TTL:P3D
REFRESH-INTERVAL:P3D
CALSCALE:GREGORIAN
BEGIN:VEVENT
DTSTART:20240804T180000Z
DTEND:20240804T210000Z
X-MICROSOFT-CDO-ALLDAYEVENT:FALSE
SUMMARY:Summer Music Sundays at McHenry Riverwalk
DESCRIPTION:Bring a chair and make it a picnic on the waterfront as you enjoy live music and various vendors---music\, great company\, good food---the perfect way to spend your Sunday afternoons.
X-ALT-DESC;FMTTYPE=text/html:Bring a chair and make it a picnic on the waterfront as you enjoy live music and various vendors---music\, great company\, good food---the perfect way to spend your Sunday afternoons.
LOCATION:1202 Riverside Drive (McHenry Riverwalk at Miller Point) McHenry \, Illinois
UID:e.1915.31648
SEQUENCE:3
DTSTAMP:20260419T122055Z
URL:https://business.mchenrychamber.com/events/details/summer-music-sundays-at-mchenry-riverwalk-08-04-2024-31648
END:VEVENT

END:VCALENDAR
